BEGIN:VCALENDAR
VERSION:2.0
PRODID:-//Odvetniška zbornica Slovenije - ECPv6.15.14//NONSGML v1.0//EN
CALSCALE:GREGORIAN
METHOD:PUBLISH
X-ORIGINAL-URL:https://www.odv-zb.si
X-WR-CALDESC:Dogodki za Odvetniška zbornica Slovenije
REFRESH-INTERVAL;VALUE=DURATION:PT1H
X-Robots-Tag:noindex
X-PUBLISHED-TTL:PT1H
BEGIN:VTIMEZONE
TZID:Europe/Ljubljana
BEGIN:DAYLIGHT
TZOFFSETFROM:+0100
TZOFFSETTO:+0200
TZNAME:CEST
DTSTART:20250330T010000
END:DAYLIGHT
BEGIN:STANDARD
TZOFFSETFROM:+0200
TZOFFSETTO:+0100
TZNAME:CET
DTSTART:20251026T010000
END:STANDARD
BEGIN:DAYLIGHT
TZOFFSETFROM:+0100
TZOFFSETTO:+0200
TZNAME:CEST
DTSTART:20260329T010000
END:DAYLIGHT
BEGIN:STANDARD
TZOFFSETFROM:+0200
TZOFFSETTO:+0100
TZNAME:CET
DTSTART:20261025T010000
END:STANDARD
BEGIN:DAYLIGHT
TZOFFSETFROM:+0100
TZOFFSETTO:+0200
TZNAME:CEST
DTSTART:20270328T010000
END:DAYLIGHT
BEGIN:STANDARD
TZOFFSETFROM:+0200
TZOFFSETTO:+0100
TZNAME:CET
DTSTART:20271031T010000
END:STANDARD
END:VTIMEZONE
BEGIN:VEVENT
DTSTART;TZID=Europe/Ljubljana:20260327T080000
DTEND;TZID=Europe/Ljubljana:20260328T133000
DTSTAMP:20260421T223858
CREATED:20260225T121858Z
LAST-MODIFIED:20260320T094031Z
UID:17179-1774598400-1774704600@www.odv-zb.si
SUMMARY:Odvetniška šola 2026
DESCRIPTION:Spoštovane kolegice\, spoštovani kolegi\,vljudno vabljeni na Odvetniško šolo 2026\, ki bo potekala 27. in 28. marca 2026 v GH Bernardin v Portorožu. \n\n\n\nPROGRAM \n\n\n\nPOKROVITELJI DOGODKA:
URL:https://www.odv-zb.si/dogodek/odvetniska-sola-2026/
LOCATION:GH Bernardin\, Obala 2\, 6320 Portorož\, 6320\, Slovenia
END:VEVENT
END:VCALENDAR