BEGIN:VCALENDAR
VERSION:2.0
PRODID:-//Odvetniška zbornica Slovenije - ECPv6.15.14//NONSGML v1.0//EN
CALSCALE:GREGORIAN
METHOD:PUBLISH
X-ORIGINAL-URL:https://www.odv-zb.si
X-WR-CALDESC:Dogodki za Odvetniška zbornica Slovenije
REFRESH-INTERVAL;VALUE=DURATION:PT1H
X-Robots-Tag:noindex
X-PUBLISHED-TTL:PT1H
BEGIN:VTIMEZONE
TZID:Europe/Ljubljana
BEGIN:DAYLIGHT
TZOFFSETFROM:+0100
TZOFFSETTO:+0200
TZNAME:CEST
DTSTART:20240331T010000
END:DAYLIGHT
BEGIN:STANDARD
TZOFFSETFROM:+0200
TZOFFSETTO:+0100
TZNAME:CET
DTSTART:20241027T010000
END:STANDARD
BEGIN:DAYLIGHT
TZOFFSETFROM:+0100
TZOFFSETTO:+0200
TZNAME:CEST
DTSTART:20250330T010000
END:DAYLIGHT
BEGIN:STANDARD
TZOFFSETFROM:+0200
TZOFFSETTO:+0100
TZNAME:CET
DTSTART:20251026T010000
END:STANDARD
BEGIN:DAYLIGHT
TZOFFSETFROM:+0100
TZOFFSETTO:+0200
TZNAME:CEST
DTSTART:20260329T010000
END:DAYLIGHT
BEGIN:STANDARD
TZOFFSETFROM:+0200
TZOFFSETTO:+0100
TZNAME:CET
DTSTART:20261025T010000
END:STANDARD
END:VTIMEZONE
BEGIN:VEVENT
DTSTART;TZID=Europe/Ljubljana:20251010T093000
DTEND;TZID=Europe/Ljubljana:20251010T200000
DTSTAMP:20260421T134128
CREATED:20250912T092215Z
LAST-MODIFIED:20250912T092218Z
UID:16408-1760088600-1760126400@www.odv-zb.si
SUMMARY:Dan slovenskih odvetnikov / Ptuj 10. oktober 2025
DESCRIPTION:Spoštovani kolegi in spoštovane kolegice\, \n\n\n\ndan slovenskih odvetnikov bo potekal na Ptuju\, v petek 10. oktobra 2025 v Dominikanskem samostanu . Letos bo potekala okrogla miza na temo Konvencije sveta Evrope za varstvo odvetniškega poklica (praktični učinki konvencije in predstavitev prvih vtisov). \n\n\n\nVabilo in Program
URL:https://www.odv-zb.si/dogodek/dan-slovenskih-odvetnikov-ptuj-10-oktober-2025/
END:VEVENT
END:VCALENDAR