BEGIN:VCALENDAR
VERSION:2.0
PRODID:-//Odvetniška zbornica Slovenije - ECPv6.15.14//NONSGML v1.0//EN
CALSCALE:GREGORIAN
METHOD:PUBLISH
X-WR-CALNAME:Odvetniška zbornica Slovenije
X-ORIGINAL-URL:https://www.odv-zb.si
X-WR-CALDESC:Dogodki za Odvetniška zbornica Slovenije
REFRESH-INTERVAL;VALUE=DURATION:PT1H
X-Robots-Tag:noindex
X-PUBLISHED-TTL:PT1H
BEGIN:VTIMEZONE
TZID:Europe/Ljubljana
BEGIN:DAYLIGHT
TZOFFSETFROM:+0100
TZOFFSETTO:+0200
TZNAME:CEST
DTSTART:20230326T010000
END:DAYLIGHT
BEGIN:STANDARD
TZOFFSETFROM:+0200
TZOFFSETTO:+0100
TZNAME:CET
DTSTART:20231029T010000
END:STANDARD
BEGIN:DAYLIGHT
TZOFFSETFROM:+0100
TZOFFSETTO:+0200
TZNAME:CEST
DTSTART:20240331T010000
END:DAYLIGHT
BEGIN:STANDARD
TZOFFSETFROM:+0200
TZOFFSETTO:+0100
TZNAME:CET
DTSTART:20241027T010000
END:STANDARD
BEGIN:DAYLIGHT
TZOFFSETFROM:+0100
TZOFFSETTO:+0200
TZNAME:CEST
DTSTART:20250330T010000
END:DAYLIGHT
BEGIN:STANDARD
TZOFFSETFROM:+0200
TZOFFSETTO:+0100
TZNAME:CET
DTSTART:20251026T010000
END:STANDARD
END:VTIMEZONE
BEGIN:VEVENT
DTSTART;TZID=Europe/Ljubljana:20240416T170000
DTEND;TZID=Europe/Ljubljana:20240416T190000
DTSTAMP:20260421T174427
CREATED:20240329T115359Z
LAST-MODIFIED:20240329T115451Z
UID:13710-1713286800-1713294000@www.odv-zb.si
SUMMARY:Skupščina Odvetniške zbornice Slovenije
DESCRIPTION:Zlata dvorana Pravne fakultete Univerze v Ljubljani\, Poljanski nasip 2
URL:https://www.odv-zb.si/dogodek/skupscina-odvetniske-zbornice-slovenije-2/
END:VEVENT
END:VCALENDAR