BEGIN:VCALENDAR
VERSION:2.0
PRODID:-//Odvetniška zbornica Slovenije - ECPv6.15.14//NONSGML v1.0//EN
CALSCALE:GREGORIAN
METHOD:PUBLISH
X-ORIGINAL-URL:https://www.odv-zb.si
X-WR-CALDESC:Dogodki za Odvetniška zbornica Slovenije
REFRESH-INTERVAL;VALUE=DURATION:PT1H
X-Robots-Tag:noindex
X-PUBLISHED-TTL:PT1H
BEGIN:VTIMEZONE
TZID:Europe/Ljubljana
BEGIN:DAYLIGHT
TZOFFSETFROM:+0100
TZOFFSETTO:+0200
TZNAME:CEST
DTSTART:20230326T010000
END:DAYLIGHT
BEGIN:STANDARD
TZOFFSETFROM:+0200
TZOFFSETTO:+0100
TZNAME:CET
DTSTART:20231029T010000
END:STANDARD
BEGIN:DAYLIGHT
TZOFFSETFROM:+0100
TZOFFSETTO:+0200
TZNAME:CEST
DTSTART:20240331T010000
END:DAYLIGHT
BEGIN:STANDARD
TZOFFSETFROM:+0200
TZOFFSETTO:+0100
TZNAME:CET
DTSTART:20241027T010000
END:STANDARD
BEGIN:DAYLIGHT
TZOFFSETFROM:+0100
TZOFFSETTO:+0200
TZNAME:CEST
DTSTART:20250330T010000
END:DAYLIGHT
BEGIN:STANDARD
TZOFFSETFROM:+0200
TZOFFSETTO:+0100
TZNAME:CET
DTSTART:20251026T010000
END:STANDARD
END:VTIMEZONE
BEGIN:VEVENT
DTSTART;TZID=Europe/Ljubljana:20240405T093000
DTEND;TZID=Europe/Ljubljana:20240406T103000
DTSTAMP:20260421T174552
CREATED:20240306T080814Z
LAST-MODIFIED:20240404T074609Z
UID:13518-1712309400-1712399400@www.odv-zb.si
SUMMARY:Odvetniška šola 2024
DESCRIPTION:Program
URL:https://www.odv-zb.si/dogodek/odvetniska-sola-2024/
LOCATION:GH Bernardin\, Portorož
CATEGORIES:Odvetniška šola
END:VEVENT
END:VCALENDAR